BEGIN:VCALENDAR
VERSION:2.0
PRODID:icalendar-ruby
CALSCALE:GREGORIAN
METHOD:PUBLISH
BEGIN:VEVENT
DTSTAMP:20260422T134844Z
UID:27-1036238@realkc.church
DTSTART:20260425T220000Z
DTEND:20260426T000000Z
CLASS:PUBLIC
CREATED:20260421T151433
DESCRIPTION:If you are a couple: long-term relationship\, engaged or marrie
 d\, we want to meet you! This week we are meeting at Electric Park in Lene
 xa KS. FOOD\, DRINKS\, and CHILDCARE PROVIDED!\nDoing life together is so 
 important\, and now is the time to build right relationship! We will be le
 arning and actively engaging in what it means to be in covenant with one a
 nother. 
LAST-MODIFIED:20260421T151433
LOCATION:9305 Loiret Blvd. Lenexa\, KS 66219
SUMMARY:Couples Ministry Gathering
URL;VALUE=URI:https://www.realkc.church/events/couples-ministry-gathering/2
 026-04-25
ATTACH;FILENAME=Couples-Unite.jpg;FMTTYPE=image/jpeg:https://dq5pwpg1q8ru0.
 cloudfront.net/2025/05/05/22/02/24/30b3e68b-e0aa-45b3-8437-016e0109b228/Co
 uples-Unite.jpg
END:VEVENT
END:VCALENDAR
