BEGIN:VCALENDAR
VERSION:2.0
PRODID:icalendar-ruby
CALSCALE:GREGORIAN
METHOD:PUBLISH
BEGIN:VEVENT
DTSTAMP:20260420T080657Z
UID:6-1034150@realkc.church
DTSTART:20260913T150000Z
DTEND:20260913T163000Z
CLASS:PUBLIC
CREATED:20260420T022236
DESCRIPTION:Join us for Sunday Service! Come EXPECTING. EXPERIENCE Change.
LAST-MODIFIED:20260420T022236
LOCATION:15612 College Blvd. Lenexa\, KS 66219
SUMMARY:Sunday Service
URL;VALUE=URI:https://www.realkc.church/events/sunday-service/2026-09-13
ATTACH;FILENAME=IMG_6357.JPG;FMTTYPE=image/jpeg:https://dq5pwpg1q8ru0.cloud
 front.net/2025/08/10/02/29/30/aa52607c-9fbb-497f-97ab-dbb1d2a4e8cc/IMG_635
 7.JPG
END:VEVENT
END:VCALENDAR
