BEGIN:VCALENDAR
VERSION:2.0
PRODID:icalendar-ruby
CALSCALE:GREGORIAN
METHOD:PUBLISH
BEGIN:VEVENT
DTSTAMP:20260420T123958Z
UID:6-1034352@realkc.church
DTSTART:20261004T150000Z
DTEND:20261004T163000Z
CLASS:PUBLIC
CREATED:20260420T070534
DESCRIPTION:Join us for Sunday Service! Come EXPECTING. EXPERIENCE Change.
LAST-MODIFIED:20260420T070534
LOCATION:15612 College Blvd. Lenexa\, KS 66219
SUMMARY:Sunday Service
URL;VALUE=URI:https://www.realkc.church/events/sunday-service/2026-10-04
ATTACH;FILENAME=IMG_6357.JPG;FMTTYPE=image/jpeg:https://dq5pwpg1q8ru0.cloud
 front.net/2025/08/10/02/29/30/aa52607c-9fbb-497f-97ab-dbb1d2a4e8cc/IMG_635
 7.JPG
END:VEVENT
END:VCALENDAR
