BEGIN:VCALENDAR
VERSION:2.0
PRODID:icalendar-ruby
CALSCALE:GREGORIAN
METHOD:PUBLISH
BEGIN:VEVENT
DTSTAMP:20260419T121033Z
UID:31-1013390@realkc.church
DTSTART:20251106T003000Z
DTEND:20251106T020000Z
CLASS:PUBLIC
CREATED:20260402T102530
DESCRIPTION:Join other women for food\, fellowship\, and real conversations
  about life and faith.\n\nWe’ll be discussing how to grow deeper in the 
 Lord and encounter Jesus in fresh\, unexpected ways.\n\nFood is taken care
  of — just come.
LAST-MODIFIED:20260402T102530
LOCATION:11643 S Lewis Dr.\, Lenexa. KS 66061
SUMMARY:Women's Gathering
URL;VALUE=URI:https://www.realkc.church/events/womens-gathering/2025-11-05
ATTACH;FILENAME=Womens-Mentoring-Fall-2024-2.jpg;FMTTYPE=image/jpeg:https:/
 /dq5pwpg1q8ru0.cloudfront.net/2025/08/29/13/51/13/56691a96-a90d-4646-a43b-
 4efcc25e1daf/Womens-Mentoring-Fall-2024-2.jpg
END:VEVENT
END:VCALENDAR
